BEGIN:VCALENDAR
VERSION:2.0
PRODID:-//Grenadiercorps Wevelinghoven - ECPv6.15.20//NONSGML v1.0//EN
CALSCALE:GREGORIAN
METHOD:PUBLISH
X-ORIGINAL-URL:https://grenadiercorps-wevelinghoven.de
X-WR-CALDESC:Veranstaltungen für Grenadiercorps Wevelinghoven
REFRESH-INTERVAL;VALUE=DURATION:PT1H
X-Robots-Tag:noindex
X-PUBLISHED-TTL:PT1H
BEGIN:VTIMEZONE
TZID:UTC
BEGIN:STANDARD
TZOFFSETFROM:+0000
TZOFFSETTO:+0000
TZNAME:UTC
DTSTART:20230101T000000
END:STANDARD
END:VTIMEZONE
BEGIN:VEVENT
DTSTART;TZID=UTC:20260314T180000
DTEND;TZID=UTC:20260314T203000
DTSTAMP:20260424T093401
CREATED:20251019T123250Z
LAST-MODIFIED:20251019T123513Z
UID:478-1773511200-1773520200@grenadiercorps-wevelinghoven.de
SUMMARY:Generalversammlung Grenadiercorps 2026
DESCRIPTION:Generalversammlung Grenadiercorps 2026
URL:https://grenadiercorps-wevelinghoven.de/event/generalversammlung-grenadiercorps-2025/
LOCATION:Erftruhe\, Hemmerdener Weg 55\, Grevenbroich\, 41516\, Deutschland
END:VEVENT
BEGIN:VEVENT
DTSTART;TZID=UTC:20260202T190000
DTEND;TZID=UTC:20260202T203000
DTSTAMP:20260424T093401
CREATED:20251019T123146Z
LAST-MODIFIED:20251019T123528Z
UID:476-1770058800-1770064200@grenadiercorps-wevelinghoven.de
SUMMARY:1. Offiziersversammlung 2026
DESCRIPTION:1. Offiziersversammlung 2026
URL:https://grenadiercorps-wevelinghoven.de/event/1-offiziersversammlung-2025/
LOCATION:Erftruhe\, Hemmerdener Weg 55\, Grevenbroich\, 41516\, Deutschland
END:VEVENT
BEGIN:VEVENT
DTSTART;TZID=UTC:20251129T170000
DTEND;TZID=UTC:20251129T220000
DTSTAMP:20260424T093401
CREATED:20251019T124410Z
LAST-MODIFIED:20251019T124410Z
UID:497-1764435600-1764453600@grenadiercorps-wevelinghoven.de
SUMMARY:Jahresabschluss Grenadiercorps 2025
DESCRIPTION:Jahresabschluss Grenadiercorps 2025
URL:https://grenadiercorps-wevelinghoven.de/event/jahresabschluss-grenadiercorps-2025/
LOCATION:Tambourcorps Wevelinghoven Vereinsheim\, Am Wehr 29\, Grevenbroich\, 41516
END:VEVENT
BEGIN:VEVENT
DTSTART;VALUE=DATE:20251116
DTEND;VALUE=DATE:20251117
DTSTAMP:20260424T093401
CREATED:20250106T181739Z
LAST-MODIFIED:20250106T181739Z
UID:453-1763251200-1763337599@grenadiercorps-wevelinghoven.de
SUMMARY:Volkstrauertag
DESCRIPTION:Volkstrauertag 2025
URL:https://grenadiercorps-wevelinghoven.de/event/volkstrauertag-2/
LOCATION:Marktplatz Wevelinghoven\, Marktplatz 9\, Grevenbroich\, 41516\, Deutschland
END:VEVENT
BEGIN:VEVENT
DTSTART;TZID=UTC:20251115T140000
DTEND;TZID=UTC:20251115T220000
DTSTAMP:20260424T093401
CREATED:20250106T181658Z
LAST-MODIFIED:20250106T181658Z
UID:451-1763215200-1763244000@grenadiercorps-wevelinghoven.de
SUMMARY:Grenadierschießen
DESCRIPTION:Grenadierschießen 2025
URL:https://grenadiercorps-wevelinghoven.de/event/grenadierschiessen-2/
LOCATION:Erftruhe\, Hemmerdener Weg 55\, Grevenbroich\, 41516\, Deutschland
END:VEVENT
BEGIN:VEVENT
DTSTART;TZID=UTC:20250903T190000
DTEND;TZID=UTC:20250903T203000
DTSTAMP:20260424T093401
CREATED:20250106T181602Z
LAST-MODIFIED:20250106T181602Z
UID:449-1756926000-1756931400@grenadiercorps-wevelinghoven.de
SUMMARY:3. Offiziersversammlung
DESCRIPTION:3. Offiziersversammlung 2025
URL:https://grenadiercorps-wevelinghoven.de/event/3-offiziersversammlung/
LOCATION:Erftruhe\, Hemmerdener Weg 55\, Grevenbroich\, 41516\, Deutschland
END:VEVENT
BEGIN:VEVENT
DTSTART;VALUE=DATE:20250823
DTEND;VALUE=DATE:20250827
DTSTAMP:20260424T093401
CREATED:20250106T181458Z
LAST-MODIFIED:20250106T181458Z
UID:447-1755907200-1756252799@grenadiercorps-wevelinghoven.de
SUMMARY:Schützenfest 2025
DESCRIPTION:23.08.2025–26.08.2025: Schützenfest 2025 in Wevelinghoven
URL:https://grenadiercorps-wevelinghoven.de/event/schuetzenfest-2025/
LOCATION:Marktplatz Wevelinghoven\, Marktplatz 9\, Grevenbroich\, 41516\, Deutschland
END:VEVENT
BEGIN:VEVENT
DTSTART;TZID=UTC:20250719T170000
DTEND;TZID=UTC:20250719T233000
DTSTAMP:20260424T093401
CREATED:20250106T182058Z
LAST-MODIFIED:20250606T131348Z
UID:455-1752944400-1752967800@grenadiercorps-wevelinghoven.de
SUMMARY:Grenadierbiwak
DESCRIPTION:Grenadierbiwak 2025 \n  \nAuch in diesem Jahr feiern wir wieder Grenadierbiwak. 
URL:https://grenadiercorps-wevelinghoven.de/event/grenadierbiwak/
LOCATION:Sportplatz Wevelinghoven\, Hemmerdener Weg 37\, Grevenbroich\, 41516\, Deutschland
END:VEVENT
BEGIN:VEVENT
DTSTART;TZID=UTC:20250629T140000
DTEND;TZID=UTC:20250629T190000
DTSTAMP:20260424T093401
CREATED:20250606T130955Z
LAST-MODIFIED:20250606T131734Z
UID:458-1751205600-1751223600@grenadiercorps-wevelinghoven.de
SUMMARY:Kinder Basteln für Kinderumzug
DESCRIPTION:Liebe Grenadiere\,  \n  \nheute geht es um eure Kinder\, eure Enkelkinder oder Kinder aus eurem Umfeld. Kurz um es geht um alle Kinder für unsere Gartenstadt.  \n  \nAm 29.06.2025 findet ab 14:00 Uhr ein Bastelnachmittag im Martinusforum Wevelinghoven auf der Unterstraße 139 statt. Hier kann unser Nachwuchs bei Interesse einen Teil seiner „Uniformierung“ für den großen Kinderumzug am Schützenfestfreitag basteln.  \n  \nFür den Kinderumzug erhalten die Kinder leihweise je nach Corps farbige Uniformshirts. \n  \nWir würden uns freuen möglichst viele kleine Grenadiere sowohl beim Bastelnachmittag als auch bei dem Kinderumzug begrüßen zu dürfen. Macht also gerne reichlich Werbung! 
URL:https://grenadiercorps-wevelinghoven.de/event/kinder-basteln-fuer-kinderumzug/
LOCATION:Martinusforum Wevelinghoven\, Unterstraße 73\, Grevenbroich\, 41516\, Germany
ATTACH;FMTTYPE=image/jpeg:https://grenadiercorps-wevelinghoven.de/wp-content/uploads/2024/09/WhatsApp-Bild-2024-09-27-um-11.50.26_9ed7020b.jpg
END:VEVENT
BEGIN:VEVENT
DTSTART;TZID=UTC:20250514T190000
DTEND;TZID=UTC:20250514T210000
DTSTAMP:20260424T093401
CREATED:20250106T181238Z
LAST-MODIFIED:20250106T181238Z
UID:445-1747249200-1747256400@grenadiercorps-wevelinghoven.de
SUMMARY:2. Offiziersversammlung
DESCRIPTION:2. Offiziersversammlung 2025
URL:https://grenadiercorps-wevelinghoven.de/event/2-offiziersversammlung-2/
LOCATION:Erftruhe\, Hemmerdener Weg 55\, Grevenbroich\, 41516\, Deutschland
END:VEVENT
BEGIN:VEVENT
DTSTART;TZID=UTC:20250315T180000
DTEND;TZID=UTC:20250315T203000
DTSTAMP:20260424T093401
CREATED:20250106T181143Z
LAST-MODIFIED:20250106T181330Z
UID:443-1742061600-1742070600@grenadiercorps-wevelinghoven.de
SUMMARY:Jahreshauptversammlung Grenadiercorps
DESCRIPTION:Jahreshauptversammlung Grenadiercorps Wevelinghoven 2025 \n 
URL:https://grenadiercorps-wevelinghoven.de/event/jahreshauptversammlung-grenadiercorps/
LOCATION:Erftruhe\, Hemmerdener Weg 55\, Grevenbroich\, 41516\, Deutschland
END:VEVENT
BEGIN:VEVENT
DTSTART;TZID=UTC:20250203T190000
DTEND;TZID=UTC:20250203T210000
DTSTAMP:20260424T093401
CREATED:20250106T181012Z
LAST-MODIFIED:20250106T181012Z
UID:441-1738609200-1738616400@grenadiercorps-wevelinghoven.de
SUMMARY:1. Offiziersversammlung
DESCRIPTION:1. Offiziersversammlung 2025
URL:https://grenadiercorps-wevelinghoven.de/event/1-offiziersversammlung/
LOCATION:Erftruhe\, Hemmerdener Weg 55\, Grevenbroich\, 41516\, Deutschland
END:VEVENT
BEGIN:VEVENT
DTSTART;VALUE=DATE:20241117
DTEND;VALUE=DATE:20241118
DTSTAMP:20260424T093401
CREATED:20240320T074400Z
LAST-MODIFIED:20240320T074400Z
UID:116-1731801600-1731887999@grenadiercorps-wevelinghoven.de
SUMMARY:Volkstrauertag
DESCRIPTION:
URL:https://grenadiercorps-wevelinghoven.de/event/volkstrauertag/
LOCATION:Marktplatz Wevelinghoven\, Marktplatz 9\, Grevenbroich\, 41516\, Deutschland
END:VEVENT
BEGIN:VEVENT
DTSTART;VALUE=DATE:20241116
DTEND;VALUE=DATE:20241117
DTSTAMP:20260424T093401
CREATED:20240320T074323Z
LAST-MODIFIED:20240320T074323Z
UID:112-1731715200-1731801599@grenadiercorps-wevelinghoven.de
SUMMARY:Grenadierschießen
DESCRIPTION:Grenadierschießen 2024
URL:https://grenadiercorps-wevelinghoven.de/event/grenadierschiessen/
LOCATION:Erftruhe\, Hemmerdener Weg 55\, Grevenbroich\, 41516\, Deutschland
END:VEVENT
BEGIN:VEVENT
DTSTART;TZID=UTC:20240818T073000
DTEND;TZID=UTC:20240818T083000
DTSTAMP:20260424T093401
CREATED:20240815T054922Z
LAST-MODIFIED:20240815T054922Z
UID:393-1723966200-1723969800@grenadiercorps-wevelinghoven.de
SUMMARY:Grenadierfrühstück
DESCRIPTION:Grenadierfrühstück am Schützenfest 2024 \nSchützenfest-Sonntag
URL:https://grenadiercorps-wevelinghoven.de/event/grenadierfruehstueck/
LOCATION:Feldstraße 23\, 41516 Wevelinghoven\, Feldstraße 23\, Grevenbroich\, 41516\, Deutschland
END:VEVENT
BEGIN:VEVENT
DTSTART;VALUE=DATE:20240817
DTEND;VALUE=DATE:20240821
DTSTAMP:20260424T093401
CREATED:20240320T073401Z
LAST-MODIFIED:20240320T073401Z
UID:104-1723852800-1724198399@grenadiercorps-wevelinghoven.de
SUMMARY:Schützenfest Wevelinghoven 2024
DESCRIPTION:Schützenfest 2024 \nDas große Jubiläumsjahr: 100 Jahre BSV\, 100 Jahre Grenadiercorps!
URL:https://grenadiercorps-wevelinghoven.de/event/schuetzenfest-wevelinghoven-2024/
LOCATION:Marktplatz Wevelinghoven\, Marktplatz 9\, Grevenbroich\, 41516\, Deutschland
END:VEVENT
BEGIN:VEVENT
DTSTART;TZID=UTC:20240810T170000
DTEND;TZID=UTC:20240810T233000
DTSTAMP:20260424T093401
CREATED:20240327T074313Z
LAST-MODIFIED:20240327T074313Z
UID:154-1723309200-1723332600@grenadiercorps-wevelinghoven.de
SUMMARY:Oberstehrenabend
DESCRIPTION:Oberstehrenabend des BSV Wevelinghoven
URL:https://grenadiercorps-wevelinghoven.de/event/oberstehrenabend/
LOCATION:Marktplatz Wevelinghoven\, Marktplatz 9\, Grevenbroich\, 41516\, Deutschland
END:VEVENT
BEGIN:VEVENT
DTSTART;TZID=UTC:20240809T190000
DTEND;TZID=UTC:20240809T233000
DTSTAMP:20260424T093401
CREATED:20240320T073616Z
LAST-MODIFIED:20240320T073616Z
UID:110-1723230000-1723246200@grenadiercorps-wevelinghoven.de
SUMMARY:Festabend - 100 Jahre BSV-Wevelinghoven
DESCRIPTION:Festabend – 100 Jahre BSV-Wevelinghoven \n  \nAnlässlich des Jubiläums findet ein Festabend mit musikalischer Begleitung statt. \nKartenverkauf und Veranstaltung läuft über den BSV
URL:https://grenadiercorps-wevelinghoven.de/event/festabend-100-jahre-bsv-wevelinghoven/
LOCATION:Marktplatz Wevelinghoven\, Marktplatz 9\, Grevenbroich\, 41516\, Deutschland
END:VEVENT
BEGIN:VEVENT
DTSTART;VALUE=DATE:20240720
DTEND;VALUE=DATE:20240721
DTSTAMP:20260424T093401
CREATED:20240319T214612Z
LAST-MODIFIED:20240319T214612Z
UID:10-1721433600-1721519999@grenadiercorps-wevelinghoven.de
SUMMARY:Jubiläums-Biwak 2024
DESCRIPTION:100 Jahre Grenadiercorps Wevelinghoven! \nDas muss gefeiert werden! \nAm 20.07.2024 ist es endlich soweit.
URL:https://grenadiercorps-wevelinghoven.de/event/jubilaeums-biwak-2024/
LOCATION:Sportplatz Wevelinghoven\, Hemmerdener Weg 37\, Grevenbroich\, 41516\, Deutschland
END:VEVENT
BEGIN:VEVENT
DTSTART;TZID=UTC:20240628T190000
DTEND;TZID=UTC:20240628T230000
DTSTAMP:20260424T093401
CREATED:20240610T165318Z
LAST-MODIFIED:20240610T165805Z
UID:362-1719601200-1719615600@grenadiercorps-wevelinghoven.de
SUMMARY:Konzert MGV Cäcilia
DESCRIPTION:
URL:https://grenadiercorps-wevelinghoven.de/event/177-jahre-mgv-caecilia/
LOCATION:Stöckers-Hof\, Poststraße 102\, Grevenbroich\, 41516\, Deutschland
ATTACH;FMTTYPE=image/jpeg:https://grenadiercorps-wevelinghoven.de/wp-content/uploads/2024/06/CaeciliaFest.jpg
END:VEVENT
BEGIN:VEVENT
DTSTART;TZID=UTC:20240515T190000
DTEND;TZID=UTC:20240515T210000
DTSTAMP:20260424T093401
CREATED:20240327T074117Z
LAST-MODIFIED:20240327T074117Z
UID:152-1715799600-1715806800@grenadiercorps-wevelinghoven.de
SUMMARY:2. Offiziersversammlung
DESCRIPTION:2. Offiziersversammlung 2024 \nFür alle Offiziere des Grenadiercorps Wevelinghoven
URL:https://grenadiercorps-wevelinghoven.de/event/2-offiziersversammlung/
LOCATION:Erftruhe\, Hemmerdener Weg 55\, Grevenbroich\, 41516\, Deutschland
END:VEVENT
BEGIN:VEVENT
DTSTART;TZID=UTC:20240426T190000
DTEND;TZID=UTC:20240426T230000
DTSTAMP:20260424T093401
CREATED:20240330T214505Z
LAST-MODIFIED:20240330T214703Z
UID:273-1714158000-1714172400@grenadiercorps-wevelinghoven.de
SUMMARY:Benefizkonzert MGT
DESCRIPTION:Die Musikgemeinschaft Grevenbroicher Tambourcorps spielt ihr Benefizkonzert in der Gartenstadt Wevelinghoven. \nAm 26.04.2024 um 19.00 Uhr wird im Festzelt auf dem Marktplatz aufgespielt. Wenn die MGT zu ihren Konzerten einlädt\, dann ist Gänsehaut angesagt\, wenn so viele Musikvereine gemeinsam spielen.
URL:https://grenadiercorps-wevelinghoven.de/event/benefizkonzert-mgt/
LOCATION:Marktplatz Wevelinghoven\, Marktplatz 9\, Grevenbroich\, 41516\, Deutschland
END:VEVENT
BEGIN:VEVENT
DTSTART;TZID=UTC:20240420T120000
DTEND;TZID=UTC:20240420T180000
DTSTAMP:20260424T093401
CREATED:20240326T092329Z
LAST-MODIFIED:20240326T092329Z
UID:143-1713614400-1713636000@grenadiercorps-wevelinghoven.de
SUMMARY:Spielplatzfest Wevelinghoven
DESCRIPTION:
URL:https://grenadiercorps-wevelinghoven.de/event/spielplatzfest-wevelinghoven/
LOCATION:Abenteuerspielplatz Wevelinghoven\, Heyerweg\, Grevenbroich\, 41516
END:VEVENT
END:VCALENDAR