BEGIN:VCALENDAR
VERSION:2.0
PRODID:-//Grenadiercorps Wevelinghoven - ECPv6.15.20//NONSGML v1.0//EN
CALSCALE:GREGORIAN
METHOD:PUBLISH
X-ORIGINAL-URL:https://grenadiercorps-wevelinghoven.de
X-WR-CALDESC:Veranstaltungen für Grenadiercorps Wevelinghoven
REFRESH-INTERVAL;VALUE=DURATION:PT1H
X-Robots-Tag:noindex
X-PUBLISHED-TTL:PT1H
BEGIN:VTIMEZONE
TZID:UTC
BEGIN:STANDARD
TZOFFSETFROM:+0000
TZOFFSETTO:+0000
TZNAME:UTC
DTSTART:20250101T000000
END:STANDARD
END:VTIMEZONE
BEGIN:VEVENT
DTSTART;TZID=UTC:20260610T190000
DTEND;TZID=UTC:20260610T200000
DTSTAMP:20260422T141356
CREATED:20251019T123349Z
LAST-MODIFIED:20251019T123500Z
UID:480-1781118000-1781121600@grenadiercorps-wevelinghoven.de
SUMMARY:2. Offiziersversammlung 2026
DESCRIPTION:2. Offiziersversammlung 2026
URL:https://grenadiercorps-wevelinghoven.de/event/2-offiziersversammlung-2025/
LOCATION:Erftruhe\, Hemmerdener Weg 55\, Grevenbroich\, 41516\, Deutschland
END:VEVENT
END:VCALENDAR